BEGIN:VCALENDAR
VERSION:2.0
PRODID:-//Rejsy po Odrze - Szczecin
CALSCALE:GREGORIAN
METHOD:PUBLISH
X-WR-CALNAME:Rejsy po Odrze - Szczecin
X-ORIGINAL-URL:https://rejsyszczecin.pl/product/piknik-na-odrze/
X-WR-CALDESC:Piknik na Odrze &#8211; rejs do betonowca z przewodnikiem
BEGIN:VEVENT
DTSTART;TZID=Europe/Helsinki:20240512T150000
DTEND;TZID=Europe/Helsinki:20240512T170000
SUMMARY:Piknik na Odrze – rejs do betonowca z przewodnikiem
DESCRIPTION:Opis wycieczki Piknik nad Odrą na Odrze? U nas to możliwe! Wypłyń z nami w klimatyczny rejs do betonowca w towarzystwie opowieści doświadczonej przewodniczki miejskiej, Joanny Wachnik. Zobacz wrak statku z betonu i panoramę Jeziora Dąbie, mijając po drodze piękne, nienaruszone zakątki przyrody – oazę zieleni w granicach miasta! &nbsp; Ceny biletów: bilet normalny - 65 zł bilet ulgowy* - 55 zł dzieci poniżej 6. roku życia - bezpłatnie! &nbsp; *bilet ulgowy przysługuje uczniom, studentom, emerytom, rencistom, osobom z niepełnosprawnościami i ich opiekunom oraz posiadaczom Szczecińskiej Karty Turystycznej, po okazaniu ważnego dokumentu potwierdzającego uprawnienie do ulgi  &nbsp; [vc_row content_placement="middle" bg_type="bg_color" css=".vc_custom_1711628670134{padding-top: 20px !important;padding-right: 20px !important;padding-bottom: 20px !important;padding-left: 20px !important;}"][vc_column][vc_empty_space height="12px"][/vc_column][vc_column width="1/4"][dt_sc_woo_cart][/vc_column][vc_column width="3/4"][vc_column_text] Twój koszyk z biletami Kliknij w koszyk, gdy skończysz wybór biletów.[/vc_column_text][/vc_column][vc_column][vc_empty_space height="12px"][/vc_column][/vc_row]
URL:https://rejsyszczecin.pl/product/piknik-na-odrze/
LOCATION:Bulwar Piastowski, w pobliżu restauracji Amore Mio
END:VEVENT
END:VCALENDAR
