BEGIN:VCALENDAR
VERSION:2.0
PRODID:-//Rejsy po Odrze - Szczecin
CALSCALE:GREGORIAN
METHOD:PUBLISH
X-WR-CALNAME:Rejsy po Odrze - Szczecin
X-ORIGINAL-URL:https://rejsyszczecin.pl/product/sniadanko-bliskosciowe-rejs-dla-nie-najmlodszych/
X-WR-CALDESC:Śniadanko bliskościowe &#8211; rejs dla nie najmłodszych
BEGIN:VEVENT
DTSTART;TZID=Europe/Helsinki:20240609T130000
DTEND;TZID=Europe/Helsinki:20240609T150000
SUMMARY:Śniadanko bliskościowe – rejs dla nie najmłodszych
DESCRIPTION:Opis wycieczki Szykuje się naprawdę niezła gratka! Śniadanko bliskościowe - nie w pracowni Akukulele jak zawsze, lecz NA STATKU!!! A nawet na dwóch!Przybywajcie, zabierając ze sobą swe pociechy, instrumenty no i koniecznie jakieś śniadaniowe jedzonko (co by się podzielić z nieznajomym oraz sprawić mu uśmiech na twarzy i niebo w gębie). Kawka i herbatka - standardowo będzie czekać na Was już przy wejściu. ODRA QUEEN - statek zacumowany (wejście bezpłatne):- Plastyczne przygody z Fryszkolą (10:00 - 11:30)- Wspólne granie - UkuBanda / UkuBanditos / Ukubanditititos (12:00 - 13:00)- Francuski z Margot - warsztaty rodzinne (13:00 - 14:00)- Emilia Dąbrowska - body percussion (14:00-15:00)JOANNA - statek pływający - (rejsy biletowane):11:00 - rejs 1h dla najmłodszych - 35 zł- animacje dla dzieci z IMPREZKĄ - Natalia Nowak- wspólne ukulelowanie z UkuBanditititos13:00 - rejs 2h dla nie najmłodszych - 55 zł- wspólne ukulelowanie z UkuBandą i UkuBanditos Co ważne - nakarmią nas Wasze (nasze) Hofy, czyli Justynka i Daniel - eintopf.pl - swoimi legendarnymi już tostami z kimchi, bułami ze śledziem i pysznymi goferkami. Słodkości zapewni Cudowna Celestyna - @cudacelestynyNa miejscu będzie można również zaopatrzyć się w napoje i przekąski dostępne na barze. WAŻNE! Statki zacumowane będą burta w burtę na Bulwarze Piastowskim. Lokalizacja: https://maps.app.goo.gl/v4NK6E3tLHJgzGQu7 Patronat medialny nad wydarzeniem przyjął portal @wszczecinie.pl Ze względu na wodny charakter wydarzenia przypominamy o szczególnych zasadach ostrożności i baczeniu na swe pociechy, szczególnie na otwartym pokładzie. Podczas wydarzenia będą robione zdjęcia. Dołączenie do wydarzenia oraz wejście na pokład oznacza zgodę na publikację wizerunku do celów marketingowych. Bilety na rejsy dostępne od 12:00 dnia 15.05.2024 na stronie www.rejsyszczecin.plJako organizatorzy zastrzegamy sobie prawo do zmian w godzinach poszczególnych punktach programu. W razie potrzeby ilość rejsów może zostać zwiększona. &nbsp; [vc_row content_placement="middle" bg_type="bg_color" css=".vc_custom_1711628670134{padding-top: 20px !important;padding-right: 20px !important;padding-bottom: 20px !important;padding-left: 20px !important;}"][vc_column][vc_empty_space height="12px"][/vc_column][vc_column width="1/4"][dt_sc_woo_cart][/vc_column][vc_column width="3/4"][vc_column_text] Twój koszyk z biletami Kliknij w koszyk, gdy skończysz wybór biletów.[/vc_column_text][/vc_column][vc_column][vc_empty_space height="12px"][/vc_column][/vc_row]
URL:https://rejsyszczecin.pl/product/sniadanko-bliskosciowe-rejs-dla-nie-najmlodszych/
LOCATION:Bulwar Piastowski, w pobliżu restauracji Amore Mio
END:VEVENT
END:VCALENDAR
