BEGIN:VCALENDAR
VERSION:2.0
PRODID:-//Rejsy po Odrze - Szczecin
CALSCALE:GREGORIAN
METHOD:PUBLISH
X-WR-CALNAME:Rejsy po Odrze - Szczecin
X-ORIGINAL-URL:https://rejsyszczecin.pl/product/rejs-do-betonowca-z-przewodnikiem/
X-WR-CALDESC:Rejs do betonowca z przewodnikiem
BEGIN:VEVENT
DTSTART;TZID=Europe/Helsinki:20240602T150000
DTEND;TZID=Europe/Helsinki:20240602T170000
SUMMARY:Rejs do betonowca z przewodnikiem
DESCRIPTION:Zobacz razem z nami wrak statku z betonu! Podczas rejsu odkryjemy malownicze zakątki rzeki Świętej i jeziora Dąbie, w towarzystwie opowieści przewodniczki miejskiej, Joanny Grycko. &nbsp; Ceny biletów: bilet normalny - 75 zł bilet ulgowy* - 65 zł dzieci poniżej 6. roku życia - bezpłatnie! &nbsp; *bilet ulgowy przysługuje uczniom, studentom, emerytom, rencistom, osobom z niepełnosprawnościami i ich opiekunom oraz posiadaczom Szczecińskiej Karty Turystycznej, po okazaniu ważnego dokumentu potwierdzającego uprawnienie do ulgi  &nbsp; [vc_row content_placement="middle" bg_type="bg_color" css=".vc_custom_1711628670134{padding-top: 20px !important;padding-right: 20px !important;padding-bottom: 20px !important;padding-left: 20px !important;}"][vc_column][vc_empty_space height="12px"][/vc_column][vc_column width="1/4"][dt_sc_woo_cart][/vc_column][vc_column width="3/4"][vc_column_text] Twój koszyk z biletami Kliknij w koszyk, gdy skończysz wybór biletów.[/vc_column_text][/vc_column][vc_column][vc_empty_space height="12px"][/vc_column][/vc_row]
URL:https://rejsyszczecin.pl/product/rejs-do-betonowca-z-przewodnikiem/
LOCATION:Bulwar Piastowski, w pobliżu restauracji Amore Mio
END:VEVENT
END:VCALENDAR
