BEGIN:VCALENDAR
VERSION:2.0
PRODID:-//Rejsy po Odrze - Szczecin
CALSCALE:GREGORIAN
METHOD:PUBLISH
X-WR-CALNAME:Rejsy po Odrze - Szczecin
X-ORIGINAL-URL:https://rejsyszczecin.pl/product/rejs-na-powitanie-lata/
X-WR-CALDESC:Rejs do betonowca &#8211; powitanie lata
BEGIN:VEVENT
DTSTART;TZID=Europe/Helsinki:20240621T170000
DTEND;TZID=Europe/Helsinki:20240621T190000
SUMMARY:Rejs do betonowca – powitanie lata
DESCRIPTION:Opis wycieczki &#x1f30a;&#x1f6f3; Dołącz do Nas na Rejsie na Otwarcie Lata! &#x1f6f3;&#x1f30a; Serdecznie zapraszamy na wyjątkowy dwugodzinny rejs po wodach Szczecina, który odbędzie się na statku Odra Queen. Wspaniałą atmosferę zapewni nasz przewodnik, Tomek Wieczorek, który opowie mnóstwo ciekawostek o wodnym Szczecinie i jego okolicach. Punktem kulminacyjnym rejsu będzie wizyta przy słynnym betonowcu. &#x1f3a4; Przewodnik: Tomek Wieczorek &#x1f4e3; Zapraszamy wszystkich do celebracji z okazji przywitania lata! &#x1f6f3;&#x1f31e; Do zobaczenia na pokładzie! &#x1f31e;&#x1f6f3; &nbsp; &#x1f39f;&#xfe0f;Ceny biletów: bilet normalny - 75 zł bilet ulgowy - 65 zł dzieci do lat 6 - gratis! &nbsp; [vc_row content_placement="middle" bg_type="bg_color" css=".vc_custom_1711628670134{padding-top: 20px !important;padding-right: 20px !important;padding-bottom: 20px !important;padding-left: 20px !important;}"][vc_column][vc_empty_space height="12px"][/vc_column][vc_column width="1/4"][dt_sc_woo_cart][/vc_column][vc_column width="3/4"][vc_column_text] Twój koszyk z biletami Kliknij w koszyk, gdy skończysz wybór biletów.[/vc_column_text][/vc_column][vc_column][vc_empty_space height="12px"][/vc_column][/vc_row]
URL:https://rejsyszczecin.pl/product/rejs-na-powitanie-lata/
LOCATION:Bulwar Piastowski, w pobliżu restauracji Amore Mio
END:VEVENT
END:VCALENDAR
