BEGIN:VCALENDAR
VERSION:2.0
PRODID:-//Rejsy po Odrze - Szczecin
CALSCALE:GREGORIAN
METHOD:PUBLISH
X-WR-CALNAME:Rejsy po Odrze - Szczecin
X-ORIGINAL-URL:https://rejsyszczecin.pl/product/rejs-dla-dzieci-na-powitanie-lata-2/
X-WR-CALDESC:Rejs dla dzieci na powitanie lata
BEGIN:VEVENT
DTSTART;TZID=Europe/Helsinki:20240623T150000
DTEND;TZID=Europe/Helsinki:20240623T160000
SUMMARY:Rejs dla dzieci na powitanie lata
DESCRIPTION: Powitanie Lata na Odrze!  Serdecznie zapraszamy wszystkie rodziny z dziećmi na wyjątkowy rejs statkiem pasażerskim Odra Queen w Szczecinie!   Kiedy?Najbliższa niedziela, 23 czerwca, godzina 13:30- 14:3015:00-16:00  Gdzie?Odra Queen, Bulwar Piastowski, Szczecin Rozpocznijcie lato w magiczny sposób! Zabierzcie swoje pociechy na godzinny rejs po Odrze i przywitajcie z nami najpiękniejszą porę roku!  Dlaczego warto? Niezwykłe Opowieści - Joanna Wachnik-Grycko, mistrzyni narracji, zabierze nas w fascynującą wodną przygodę pełną tajemnic i niesamowitych historii. Na pokładzie czekać będą zabawy dla najmłodszych, które pobudzą ich wyobraźnię. Co jeszcze? Słodkie Niespodzianki - Każde dziecko otrzyma małą słodką niespodziankę! Balony - Na pokładzie będą balony, które dodadzą jeszcze więcej radości. Uwaga! Liczba miejsc jest ograniczona, więc warto się pospieszyć! Do zobaczenia na pokładzie!  Rozpocznijcie lato od niezapomnianej przygody na Odrze z Odra Queen!  &nbsp; [vc_row content_placement="middle" bg_type="bg_color" css=".vc_custom_1711628670134{padding-top: 20px !important;padding-right: 20px !important;padding-bottom: 20px !important;padding-left: 20px !important;}"][vc_column][vc_empty_space height="12px"][/vc_column][vc_column width="1/4"][dt_sc_woo_cart][/vc_column][vc_column width="3/4"][vc_column_text] Twój koszyk z biletami Kliknij w koszyk, gdy skończysz wybór biletów.[/vc_column_text][/vc_column][vc_column][vc_empty_space height="12px"][/vc_column][/vc_row]
URL:https://rejsyszczecin.pl/product/rejs-dla-dzieci-na-powitanie-lata-2/
LOCATION:Bulwar Piastowski, w pobliżu restauracji Amore Mio
END:VEVENT
END:VCALENDAR
