BEGIN:VCALENDAR
VERSION:2.0
PRODID:-//Rejsy po Odrze - Szczecin
CALSCALE:GREGORIAN
METHOD:PUBLISH
X-WR-CALNAME:Rejsy po Odrze - Szczecin
X-ORIGINAL-URL:https://rejsyszczecin.pl/product/rejs-do-swinoujscia-7/
X-WR-CALDESC:Rejs do Świnoujścia
BEGIN:VEVENT
DTSTART;TZID=Europe/Helsinki:20240817T080000
DTEND;TZID=Europe/Helsinki:20240817T211500
SUMMARY:Rejs do Świnoujścia
DESCRIPTION:Opis wycieczki Zapraszamy na długo wyczekiwany, całodniowy rejs statkiem Odra Queen ze Szczecina do Świnoujścia! To wyjątkowa okazja, aby podziwiać urokliwe krajobrazy z nowej perspektywy i spędzić niezapomniany dzień nad morzem. &nbsp; Godziny rejsów: Szczecin – Świnoujście: 8:00 – 11:15 Świnoujście – Szczecin: 18:00 – 21:15 Miejsca cumowania: Szczecin: Bulwar Piastowski (przy restauracji Amore Mio, na wysokości Zamku Książąt Pomorskich) Świnoujście: Wybrzeże Władysława IV (obok przeprawy miejskiej Świnoujście Centrum – Warszów) Trasa rejsu: Bulwar Piastowski, Przekop Mieleński, Odra Zachodnia, Roztoka Odrzańska, Zalew Szczeciński, Kanał Piastowski, Rzeka Świna, Świnoujście (Władysława IV) Ceny biletów: Bilet w dwie strony: Normalny: 159,00 PLN Ulgowy*: 125,00 PLN Rodzinny (2+1)**: 375,00 PLN Rodzinny (2+2)**: 495,00 PLN Bilet w jedną stronę: Normalny: 99,00 PLN Ulgowy*: 89,00 PLN Rodzinny (2+1)**: 229,00 PLN Rodzinny (2+2)**: 299,00 PLN Dzieci do 6. roku życia – bezpłatnie Podczas rejsu podziwiaj tajemnicze zakątki portowe i malowniczą przyrodę. Ciesz się komfortem na pokładzie. Po dotarciu do Świnoujścia, odkrywaj uroki miasta i relaksuj się na plaży. Do zobaczenia na pokładzie! &nbsp; Armator zastrzega sobie prawo do zmiany trasy, czasu, lub odwołania rejsu ze względu na niekorzystne warunki hydrometeorologiczne, polecenia Służby Kontroli Ruchu Statków lub ruch innych jednostek. &nbsp; *bilet ulgowy przysługuje uczniom, studentom, emerytom, rencistom, osobom z niepełnosprawnościami i ich opiekunom oraz posiadaczom Szczecińskiej Karty Turystycznej, po okazaniu ważnego dokumentu potwierdzającego uprawnienie do ulgi  **bilet rodzinny przysługuje dwóm rodzicom/opiekunom oraz jednemu/dwójce dzieci  ***dodatkowe 5% rabatu dla posiadaczy Zachodniopomorskiej Karty Rodziny i Zachodniopomorskiej Karty Seniora [vc_row content_placement="middle" bg_type="bg_color" css=".vc_custom_1711628670134{padding-top: 20px !important;padding-right: 20px !important;padding-bottom: 20px !important;padding-left: 20px !important;}"][vc_column][vc_empty_space height="12px"][/vc_column][vc_column width="1/4"][dt_sc_woo_cart][/vc_column][vc_column width="3/4"][vc_column_text] Twój koszyk z biletami Kliknij w koszyk, gdy skończysz wybór biletów.[/vc_column_text][/vc_column][vc_column][vc_empty_space height="12px"][/vc_column][/vc_row]
URL:https://rejsyszczecin.pl/product/rejs-do-swinoujscia-7/
LOCATION:Bulwar Piastowski, w pobliżu restauracji Amore Mio
END:VEVENT
END:VCALENDAR
