BEGIN:VCALENDAR
VERSION:2.0
PRODID:-//Rejsy po Odrze - Szczecin
CALSCALE:GREGORIAN
METHOD:PUBLISH
X-WR-CALNAME:Rejsy po Odrze - Szczecin
X-ORIGINAL-URL:https://rejsyszczecin.pl/product/rejs-po-szczecinskim-porcie-6/
X-WR-CALDESC:Rejs po szczecińskim porcie
BEGIN:VEVENT
DTSTART;TZID=Europe/Helsinki:20240720T123000
DTEND;TZID=Europe/Helsinki:20240720T133000
SUMMARY:Rejs po szczecińskim porcie
DESCRIPTION:Opis wycieczki Wybierz się z nami w godzinny rejs po szczecińskim porcie! Poznaj miasto z zupełnie innej perspektywy, wysłuchując ciekawostek o jego historii. Zobacz z nami piękną panoramę Wałów Chrobrego, rozległe tereny stoczniowe oraz piękne okoliczności natury. &nbsp; &nbsp; &nbsp; [vc_row content_placement="middle" bg_type="bg_color" css=".vc_custom_1711628670134{padding-top: 20px !important;padding-right: 20px !important;padding-bottom: 20px !important;padding-left: 20px !important;}"][vc_column][vc_empty_space height="12px"][/vc_column][vc_column width="1/4"][dt_sc_woo_cart][/vc_column][vc_column width="3/4"][vc_column_text] Twój koszyk z biletami Kliknij w koszyk, gdy skończysz wybór biletów.[/vc_column_text][/vc_column][vc_column][vc_empty_space height="12px"][/vc_column][/vc_row]
URL:https://rejsyszczecin.pl/product/rejs-po-szczecinskim-porcie-6/
LOCATION:Bulwar Piastowski
END:VEVENT
END:VCALENDAR
