BEGIN:VCALENDAR
VERSION:2.0
PRODID:-//Rejsy po Odrze - Szczecin
CALSCALE:GREGORIAN
METHOD:PUBLISH
X-WR-CALNAME:Rejsy po Odrze - Szczecin
X-ORIGINAL-URL:https://rejsyszczecin.pl/product/kobiety-szczecina-rejs-na-dzien-mamy/
X-WR-CALDESC:Kobiety Szczecina &#8211; Rejs na Dzień Mamy
BEGIN:VEVENT
DTSTART;TZID=Europe/Helsinki:20250524T170000
DTEND;TZID=Europe/Helsinki:20250524T190000
SUMMARY:Kobiety Szczecina – Rejs na Dzień Mamy
DESCRIPTION:2 godzinny rejs statkiem to wyjątkowa okazja, by uczcić Dzień Mamy w nietypowy i ciekawy sposób. Podczas rejsu usłyszycie fascynujące opowieści naszej przewodniczki - Asi Wachnik.  To doskonała okazja na spędzenie niezapomnianego dnia na wodach Odry, ciesząc się pięknem Szczecina w towarzystwie bliskich. &nbsp; Kiedy?24.05. godzina 17.00 &nbsp; Cena: 80zł/ bilet normalny 70zł/ bilet ulgowy dzieci poniżej 6. roku życia – bezpłatnie! &nbsp; *bilet ulgowy przysługuje uczniom, studentom, emerytom i rencistom, osobom z orzeczeniem o niepełnosprawności i ich opiekunom, posiadaczom Szczecińskiej Karty Turystycznej oraz Zachodniopomorskiej Karty Rodziny, dla posiadaczy Zachodniopomorskiej Karty Seniora dodatkowe 10% rabatu &nbsp; [vc_row content_placement="middle" bg_type="bg_color" css=".vc_custom_1711628670134{padding-top: 20px !important;padding-right: 20px !important;padding-bottom: 20px !important;padding-left: 20px !important;}"][vc_column][vc_empty_space height="12px"][/vc_column][vc_column width="1/4"][dt_sc_woo_cart][/vc_column][vc_column width="3/4"][vc_column_text] Twój koszyk z biletami Kliknij w koszyk, gdy skończysz wybór biletów.[/vc_column_text][/vc_column][vc_column][vc_empty_space height="12px"][/vc_column][/vc_row]
URL:https://rejsyszczecin.pl/product/kobiety-szczecina-rejs-na-dzien-mamy/
LOCATION:Bulwar Piastowski, w pobliżu restauracji Amore Mio
END:VEVENT
END:VCALENDAR
