BEGIN:VCALENDAR
VERSION:2.0
PRODID:-//Rejsy po Odrze - Szczecin
CALSCALE:GREGORIAN
METHOD:PUBLISH
X-WR-CALNAME:Rejsy po Odrze - Szczecin
X-ORIGINAL-URL:https://rejsyszczecin.pl/product/rejs-portugalski-z-przewodnikiem/
X-WR-CALDESC:Rejs portugalski z przewodnikiem
BEGIN:VEVENT
DTSTART;TZID=Europe/Helsinki:20250718T170000
DTEND;TZID=Europe/Helsinki:20250718T190000
SUMMARY:Rejs portugalski z przewodnikiem
DESCRIPTION:Rejs statkiem po Odrze z przewodnikiem Jackiem Wochem to niezapomniana podróż w klimacie portugalskim. Podczas rejsu uczestnicy będą mogli poczuć się jak na południu Europy, odkrywając piękno rzeki i miasta z zupełnie innej perspektywy. W trakcie rejsu serwowany będzie pyszny poczęstunek, który idealnie wpasuje się w portugalski klimat, oferując chwilę relaksu i przyjemności. To doskonała okazja na spędzenie wyjątkowego dnia w towarzystwie wspaniałych smaków i interesujących opowieści. &nbsp; Kiedy? 18.07. godzina 17.00 &nbsp; Cena: 95zł/ bilet normalny 90zł/ bilet ulgowy dzieci poniżej 6. roku życia – bezpłatnie! &nbsp; *bilet ulgowy przysługuje uczniom, studentom, emerytom i rencistom, osobom z orzeczeniem o niepełnosprawności i ich opiekunom, posiadaczom Szczecińskiej Karty Turystycznej oraz Zachodniopomorskiej Karty Rodziny, dla posiadaczy Zachodniopomorskiej Karty Seniora dodatkowe 10% rabatu &nbsp; [vc_row content_placement="middle" bg_type="bg_color" css=".vc_custom_1711628670134{padding-top: 20px !important;padding-right: 20px !important;padding-bottom: 20px !important;padding-left: 20px !important;}"][vc_column][vc_empty_space height="12px"][/vc_column][vc_column width="1/4"][dt_sc_woo_cart][/vc_column][vc_column width="3/4"][vc_column_text] Twój koszyk z biletami Kliknij w koszyk, gdy skończysz wybór biletów.[/vc_column_text][/vc_column][vc_column][vc_empty_space height="12px"][/vc_column][/vc_row]
URL:https://rejsyszczecin.pl/product/rejs-portugalski-z-przewodnikiem/
LOCATION:Bulwar Piastowski, w pobliżu restauracji Amore Mio
END:VEVENT
END:VCALENDAR
