BEGIN:VCALENDAR
VERSION:2.0
PRODID:-//Rejsy po Odrze - Szczecin
CALSCALE:GREGORIAN
METHOD:PUBLISH
X-WR-CALNAME:Rejsy po Odrze - Szczecin
X-ORIGINAL-URL:https://rejsyszczecin.pl/product/rejs-do-nowego-warpna-z-przewodnikiem/
X-WR-CALDESC:Rejs do Nowego Warpna z przewodnikiem
BEGIN:VEVENT
DTSTART;TZID=Europe/Helsinki:20250704T090000
DTEND;TZID=Europe/Helsinki:20250704T190000
SUMMARY:Rejs do Nowego Warpna z przewodnikiem
DESCRIPTION:Zapraszamy na pokład! &nbsp; Odkryj z nami malowniczy, najbardziej wysunięty na zachód punkt województwa zachodniopomorskiego - Nowe Warpno! &nbsp; Podczas rejsu wysłuchamy wielu historii i ciekawostek od doświadczonej przewodniczki miejskiej Joanny Grycko. Na miejscu wybierzemy się także na wspólne zwiedzanie. Poranną trasę umilą nam ciasto i kawa, a powrotną kiełbaski z grilla. &nbsp; Rozkład rejsu: 09:00 - wypłynięcie ze Szczecina, 09:00 - 12:00 - rejs do Nowego Warpna oraz kawa i ciasto, 12:00-16:00 - zwiedzanie Nowego Warpna z przewodnikiem i czas wolny, 16:00-19:00 - rejs do Szczecina z grillem, 19:00 - cumowanie w Szczecinie. &nbsp; Ceny biletów: bilet normalny – 160 zł bilet ulgowy* – 155 zł dzieci poniżej 6. roku życia – bezpłatnie! &nbsp; *bilet ulgowy przysługuje uczniom, studentom, emerytom i rencistom, osobom z orzeczeniem o niepełnosprawności i ich opiekunom, posiadaczom Szczecińskiej Karty Turystycznej oraz Zachodniopomorskiej Karty Rodziny, dla posiadaczy Zachodniopomorskiej Karty Seniora dodatkowe 10% rabatu **bilet rodzinny przysługuje dwóm rodzicom/opiekunom i jednemu/dwójce dzieci &nbsp; [vc_row content_placement="middle" bg_type="bg_color" css=".vc_custom_1711628670134{padding-top: 20px !important;padding-right: 20px !important;padding-bottom: 20px !important;padding-left: 20px !important;}"][vc_column][vc_empty_space height="12px"][/vc_column][vc_column width="1/4"][dt_sc_woo_cart][/vc_column][vc_column width="3/4"][vc_column_text] Twój koszyk z biletami Kliknij w koszyk, gdy skończysz wybór biletów.[/vc_column_text][/vc_column][vc_column][vc_empty_space height="12px"][/vc_column][/vc_row]
URL:https://rejsyszczecin.pl/product/rejs-do-nowego-warpna-z-przewodnikiem/
LOCATION:Bulwar Piastowski, w pobliżu restauracji Amore Mio
END:VEVENT
END:VCALENDAR
