BEGIN:VCALENDAR
VERSION:2.0
PRODID:-//Rejsy po Odrze - Szczecin
CALSCALE:GREGORIAN
METHOD:PUBLISH
X-WR-CALNAME:Rejsy po Odrze - Szczecin
X-ORIGINAL-URL:https://rejsyszczecin.pl/product/calodniowa-wycieczka-do-gryfina-z-przewodnikiem/
X-WR-CALDESC:Całodniowa wycieczka do Gryfina z przewodnikiem
BEGIN:VEVENT
DTSTART;TZID=Europe/Helsinki:20250831T090000
DTEND;TZID=Europe/Helsinki:20250831T170000
SUMMARY:Całodniowa wycieczka do Gryfina z przewodnikiem
DESCRIPTION:Opis wycieczki Zapraszamy na niezapomniany rejs krajoznawczy na południe od Szczecina! Odkryj urokliwy Park Krajobrazowy Dolina Dolnej Odry i malownicze Gryfino. Podczas podróży statkiem Odra Queen wspólnie cieszyć będziemy się pięknymi krajobrazami i opowieściami przewodniczki miejskiej Asi Grycko. &nbsp; Rozkład rejsu: 08:30 - otwarcie pokładu, 09:00 - wypłynięcie i słodki poczęstunek (kawa/herbata i ciasto), 11:30 - zwiedzanie Gryfina z przewodniczką Asią Grycko lub indywidualnie, 14:30 - wypłynięcie z Gryfina i grill na pokładzie (kiełbasa i pieczywo), 17:00 - cumowanie w Szczecinie. &nbsp; Ceny biletów: bilet normalny - 159 zł bilet dla dzieci do lat 6 - 0 zł &nbsp; [vc_row content_placement="middle" bg_type="bg_color" css=".vc_custom_1711628670134{padding-top: 20px !important;padding-right: 20px !important;padding-bottom: 20px !important;padding-left: 20px !important;}"][vc_column][vc_empty_space height="12px"][/vc_column][vc_column width="1/4"][dt_sc_woo_cart][/vc_column][vc_column width="3/4"][vc_column_text] Twój koszyk z biletami Kliknij w koszyk, gdy skończysz wybór biletów.[/vc_column_text][/vc_column][vc_column][vc_empty_space height="12px"][/vc_column][/vc_row]
URL:https://rejsyszczecin.pl/product/calodniowa-wycieczka-do-gryfina-z-przewodnikiem/
LOCATION:Bulwar Piastowski, w pobliżu restauracji Amore Mio
END:VEVENT
END:VCALENDAR
