BEGIN:VCALENDAR
VERSION:2.0
PRODID:-//Rejsy po Odrze - Szczecin
CALSCALE:GREGORIAN
METHOD:PUBLISH
X-WR-CALNAME:Rejsy po Odrze - Szczecin
X-ORIGINAL-URL:https://rejsyszczecin.pl/product/rejs-podczas-zagli-2025-statkami-odra-queen-joanna-12/
X-WR-CALDESC:Rejs podczas Żagli 2025 statkami Odra Queen/Joanna
BEGIN:VEVENT
DTSTART;TZID=Europe/Helsinki:20250815T160000
DTEND;TZID=Europe/Helsinki:20250815T164000
SUMMARY:Rejs podczas Żagli 2025 statkami Odra Queen/Joanna
DESCRIPTION:Opis wycieczki Wybierz się z nami w rejs po szczecińskim porcie podczas Żagli 2025 i zobacz goszczące w naszym mieście żaglowce z zupełnie innej perspektywy - od strony wody! Podczas rejsów usłyszeć będzie można ciekawostki o mijanych obiektach w języku polskim, niemieckim i angielskim. Na obu naszych statkach znajdują się bary wyposażone w napoje zimne, ciepłe, piwo i mocniejsze alkohole oraz przekąski, a także toalety. &nbsp; Bilet normalny - 40 zł. Bilet ulgowy - 35 zł. Dzieci do lat 6 płyną gratis! &nbsp; &nbsp; *bilet ulgowy przysługuje uczniom, studentom, emerytom i rencistom, osobom z orzeczeniem o niepełnosprawności i ich opiekunom, posiadaczom Szczecińskiej Karty Turystycznej oraz Zachodniopomorskiej Karty Rodziny, bądź Zachodniopomorskiej Karty Seniora  &nbsp; &nbsp; [vc_row content_placement="middle" bg_type="bg_color" css=".vc_custom_1711628670134{padding-top: 20px !important;padding-right: 20px !important;padding-bottom: 20px !important;padding-left: 20px !important;}"][vc_column][vc_empty_space height="12px"][/vc_column][vc_column width="1/4"][dt_sc_woo_cart][/vc_column][vc_column width="3/4"][vc_column_text] Twój koszyk z biletami Kliknij w koszyk, gdy skończysz wybór biletów.[/vc_column_text][/vc_column][vc_column][vc_empty_space height="12px"][/vc_column][/vc_row]
URL:https://rejsyszczecin.pl/product/rejs-podczas-zagli-2025-statkami-odra-queen-joanna-12/
LOCATION:Bulwar Piastowski
END:VEVENT
END:VCALENDAR
