BEGIN:VCALENDAR
VERSION:2.0
PRODID:-//Rejsy po Odrze - Szczecin
CALSCALE:GREGORIAN
METHOD:PUBLISH
X-WR-CALNAME:Rejsy po Odrze - Szczecin
X-ORIGINAL-URL:https://rejsyszczecin.pl/product/malownicze-zakatki-doliny-dolnej-odry-wycieczka-calodniowa/
X-WR-CALDESC:Malownicze Zakątki Doliny Dolnej Odry. Wycieczka całodniowa
BEGIN:VEVENT
DTSTART;TZID=Europe/Helsinki:20250823T090000
DTEND;TZID=Europe/Helsinki:20250823T170000
SUMMARY:Malownicze Zakątki Doliny Dolnej Odry. Wycieczka całodniowa
DESCRIPTION:To będzie inspirujące spotkanie z naturą, ludźmi nauki i społecznikami, w dodatku przy dobrej muzyce i pysznym jedzeniu. Naszą najbliższą wycieczkę z serii POZASZCZECIN (23 sierpnia) zaplanowaliśmy nietypowo – zamiast do autokaru, zapraszamy na statek. Popłyniemy w górę Odry, by sprawdzić dlaczego Międzyodrze stanie się już wkrótce parkiem narodowym, a później zajrzymy na Jezioro Dąbie, gdzie zorganizujemy koncert na wodzie. Wycieczka będzie okazją, by nie tylko zobaczyć malownicze zakątki Doliny Dolnej Odry i różnorodne gatunki ptactwa, ale też posłuchać i podyskutować o idei parku narodowego. Wydarzenie łączy w sobie formę rejsu krajoznawczego, edukacyjnego spotkania i kulturalnej uczty. Tematem przewodnim rejsu będzie Park Narodowy Doliny Dolnej Odry – idea odważna i szeroko dyskutowana, budząca zarówno entuzjazm, jak i wątpliwości. Dlatego zaprosiliśmy do rozmów ekspertów i praktyków. Na pokładzie pojawią się: prof. Agnieszka Szlauer-Łukaszewska – hydrobiolog, specjalistka w zakresie ekologii wód i środowiska Odry, prof. Lesław Wołejko – botanik i ekspert ds. rewaloryzacji krajobrazu. Do udziału w spotkaniu zaproszono także przedstawicieli lokalnych samorządów (m.in. gminy Widuchowa i Gryfino), a także środowiska leśników, myśliwych i wędkarzy. Organizatorzy zapowiadają przestrzeń na pytania i wymianę opinii – zarówno podczas wystąpień, jak i w mniej formalnych rozmowach w trakcie rejsu. Koncert na wodzie i uczta kulinarna w wersji domowej Po około trzech-czterech godzinach podróży statek zawinie do przystani w Dąbiu, gdzie zaplanowano dłuższy postój. Tam odbędzie się koncert – niespodzianka. Tuż po nim przewidziano Ucztę kulinarną w wersji domowej i absolutnie obfitej. Na stole znajdą się: krokiety z kapustą i grzybami, barszczyk czerwony oraz inne klasyki polskiej kuchni w solidnej i sycącej porcji. Po postoju statek powróci do Szczecina – przez Jezioro Dąbie, Kanał Święta i Port Szczeciński. Trasa może ulec modyfikacji w zależności od warunków pogodowych oraz decyzji kapitana. Całość potrwa około 7 godzin. Szczegóły wydarzenia: Data: Sobota, 23 sierpnia 2025 r.Godzina startu: 9:00Miejsce zbiórki: Bulwary Szczecińskie (na wysokości Zamku Książąt Pomorskich)Jednostka: m/s JoannaTrasa: Bulwary – Kanały – Odra Zachodnia – Park Krajobrazowy – Jezioro Dąbie – Port – BulwaryCzas trwania: około 7 godzinPostój: Przystań w Dąbiu (ok. godz. 13:00)W programie: koncert, obfity lunch, spotkania z ekspertami, rozmowy, wyjątkowy klimat i widoki Cena udziału: 255 zł od osoby Organizatorem wydarzenia jest zespół Pozaszczecin.pl, znany z tworzenia niebanalnych wycieczek z wartością dodaną, i kierowanych na wyjątkowej społeczności. Ci, którzy już brali udział w ich wydarzeniach, wiedzą, że warto. Dla wszystkich pozostałych – to doskonały moment, by dołączyć. To jest bowiem dopiero początek serii wycieczkowych przygód, które zaplanowane wraz z kończącym się latem &nbsp; &nbsp; Armator zastrzega sobie prawo do zmiany trasy, czasu, lub odwołania rejsu ze względu na niekorzystne warunki hydrometeorologiczne, polecenia Służby Kontroli Ruchu Statków lub ruch innych jednostek. [vc_row content_placement="middle" bg_type="bg_color" css=".vc_custom_1711628670134{padding-top: 20px !important;padding-right: 20px !important;padding-bottom: 20px !important;padding-left: 20px !important;}"][vc_column][vc_empty_space height="12px"][/vc_column][vc_column width="1/4"][dt_sc_woo_cart][/vc_column][vc_column width="3/4"][vc_column_text] Twój koszyk z biletami Kliknij w koszyk, gdy skończysz wybór biletów.[/vc_column_text][/vc_column][vc_column][vc_empty_space height="12px"][/vc_column][/vc_row]
URL:https://rejsyszczecin.pl/product/malownicze-zakatki-doliny-dolnej-odry-wycieczka-calodniowa/
LOCATION:Bulwar Piastowski, w pobliżu restauracji Amore Mio
END:VEVENT
END:VCALENDAR
