BEGIN:VCALENDAR
VERSION:2.0
PRODID:-//Rejsy po Odrze - Szczecin
CALSCALE:GREGORIAN
METHOD:PUBLISH
X-WR-CALNAME:Rejsy po Odrze - Szczecin
X-ORIGINAL-URL:https://rejsyszczecin.pl/product/rejs-wielkanocny/
X-WR-CALDESC:Rejs Wielkanocny z przewodniczką Joanną Grycko
BEGIN:VEVENT
DTSTART;TZID=Europe/Helsinki:20260407T170000
DTEND;TZID=Europe/Helsinki:20260407T193000
SUMMARY:Rejs Wielkanocny z przewodniczką Joanną Grycko
DESCRIPTION:Rejs Wielkanocny W te Święta podaruj bliskim coś więcej niż wspólny obiad – podaruj wspólną przygodę na wodzie. Wielkanocny rejs przez malowniczy Basen Górniczy i tajemniczą Rzekę Świętą to wyjątkowa okazja, by razem z rodziną przeżyć chwile pełne spokoju, pięknych widoków i świątecznej atmosfery. O niezwykłych historiach tych miejsc opowie Joanna Grycko, dzięki której ta podróż stanie się nie tylko rejsem, ale także niezapomnianym spotkaniem z historią i urokiem szczecińskich wód. &nbsp; Kiedy? 06.04. godzina 15.00 &nbsp; Cena: 85zł/ bilet normalny 75zł/ bilet ulgowy dzieci poniżej 6. roku życia – bezpłatnie! &nbsp; *bilet ulgowy przysługuje uczniom, studentom, emerytom i rencistom, osobom z orzeczeniem o niepełnosprawności i ich opiekunom, posiadaczom Szczecińskiej Karty Turystycznej oraz Zachodniopomorskiej Karty Rodziny, dla posiadaczy Zachodniopomorskiej Karty Seniora dodatkowe 10% rabatu &nbsp; [vc_row content_placement="middle" bg_type="bg_color" css=".vc_custom_1711628670134{padding-top: 20px !important;padding-right: 20px !important;padding-bottom: 20px !important;padding-left: 20px !important;}"][vc_column][vc_empty_space height="12px"][/vc_column][vc_column width="1/4"][dt_sc_woo_cart][/vc_column][vc_column width="3/4"][vc_column_text] Twój koszyk z biletami Kliknij w koszyk, gdy skończysz wybór biletów.[/vc_column_text][/vc_column][vc_column][vc_empty_space height="12px"][/vc_column][/vc_row]
URL:https://rejsyszczecin.pl/product/rejs-wielkanocny/
LOCATION:Bulwar Piastowski, w pobliżu restauracji Amore Mio
END:VEVENT
END:VCALENDAR
