BEGIN:VCALENDAR
VERSION:2.0
PRODID:-//Rejsy po Odrze - Szczecin
CALSCALE:GREGORIAN
METHOD:PUBLISH
X-WR-CALNAME:Rejsy po Odrze - Szczecin
X-ORIGINAL-URL:https://rejsyszczecin.pl/product/rejs-z-degustacja-wina-o-zachodzie-slonca-5/
X-WR-CALDESC:Rejs z degustacją wina o zachodzie Słońca
BEGIN:VEVENT
DTSTART;TZID=Europe/Helsinki:20260501T193000
DTEND;TZID=Europe/Helsinki:20260501T213000
SUMMARY:Rejs z degustacją wina o zachodzie Słońca
DESCRIPTION:Opis wycieczki Poznaj Szczecin z (w)innej perspektywy! Ciesz się relaksującym rejsem po Odrze z widokiem na port i pięknym zachodem słońca nad jeziorem Dąbie w towarzystwie opowieści doświadczonego przewodnika miejskiego, organizatora enoturystyki oraz przedstawiciela Stowarzyszenia Winnice Pomorza Zachodniego - Tomasza Dudy, który wraz z doświadczoną załogą przeprowadzi degustację win z zachodniopomorskich winnic. &nbsp; Ceny biletów: bilet normalny - 125 zł pakiet 4 biletów - 480 zł pakiet 10 biletów - 1100 zł &nbsp; Armator zastrzega sobie prawo do zmiany trasy, czasu, lub odwołania rejsu ze względu na niekorzystne warunki hydrometeorologiczne, polecenia Służby Kontroli Ruchu Statków lub ruch innych jednostek. &nbsp; &nbsp; [vc_row content_placement="middle" bg_type="bg_color" css=".vc_custom_1711628670134{padding-top: 20px !important;padding-right: 20px !important;padding-bottom: 20px !important;padding-left: 20px !important;}"][vc_column][vc_empty_space height="12px"][/vc_column][vc_column width="1/4"][dt_sc_woo_cart][/vc_column][vc_column width="3/4"][vc_column_text] Twój koszyk z biletami Kliknij w koszyk, gdy skończysz wybór biletów.[/vc_column_text][/vc_column][vc_column][vc_empty_space height="12px"][/vc_column][/vc_row]
URL:https://rejsyszczecin.pl/product/rejs-z-degustacja-wina-o-zachodzie-slonca-5/
LOCATION:Bulwar Piastowski, w pobliżu restauracji Amore Mio
END:VEVENT
END:VCALENDAR
